BEGIN:VCALENDAR
VERSION:2.0
PRODID:-//Library Market//iCal Export//EN
BEGIN:VEVENT
SUMMARY:FAC Meeting
UID:15979
DTSTAMP:20260423T031200Z
DTSTART:20260423T180000Z
DTEND:20260423T183000Z
LOCATION:Tye Preston Memorial Library, 16311 S Access Rd, Canyon Lake, TX 
 78133, United States
ROOM: Board Room
DESCRIPTION:
URL:https://tpml.librarycalendar.com/event/fac-meeting-15979
END:VEVENT
END:VCALENDAR
