BEGIN:VCALENDAR
VERSION:2.0
PRODID:-//Library Market//iCal Export//EN
BEGIN:VEVENT
SUMMARY:Teen Night
UID:16110
DTSTAMP:20260425T172900Z
DTSTART:20260616T223000Z
DTEND:20260617T000000Z
LOCATION:Tye Preston Memorial Library, 16311 S Access Rd, Canyon Lake, TX 
 78133, United States
ROOM: Casteel Room
DESCRIPTION:Teen Night for Summer Reading!
URL:https://tpml.librarycalendar.com/event/copy-teen-night-16110
END:VEVENT
END:VCALENDAR
