BEGIN:VCALENDAR
VERSION:2.0
PRODID:-//Library Market//iCal Export//EN
BEGIN:VEVENT
SUMMARY:Medicare Open Enrollment Assistance
UID:16183
DTSTAMP:20260425T172900Z
DTSTART:20260928T160000Z
DTEND:20260928T180000Z
LOCATION:Tye Preston Memorial Library, 16311 S Access Rd, Canyon Lake, TX 
 78133, United States
ROOM: 1st Study Room
DESCRIPTION:Come get FREE one-on-one personalized assistance during Medica
 re Open Enrollment from Elia Pardo of Alamo Area Council of Governments (A
 ACOG)! If you regularly take medications, please bring your prescription(
 s) with you.Registrants will receive more information on their expected 30
 -minute meeting block within this 11 am - 1 pm time frame prior to the mee
 ting!
URL:https://tpml.librarycalendar.com/event/medicare-open-enrollment-assist
 ance-16183
END:VEVENT
END:VCALENDAR
